BEGIN:VCALENDAR
VERSION:2.0
PRODID:-//Tennisclub Grün-Weiß Buchholz e.V. - ECPv6.15.20//NONSGML v1.0//EN
CALSCALE:GREGORIAN
METHOD:PUBLISH
X-ORIGINAL-URL:https://tennis-buchholz.de
X-WR-CALDESC:Veranstaltungen für Tennisclub Grün-Weiß Buchholz e.V.
REFRESH-INTERVAL;VALUE=DURATION:PT1H
X-Robots-Tag:noindex
X-PUBLISHED-TTL:PT1H
BEGIN:VTIMEZONE
TZID:Europe/Berlin
BEGIN:DAYLIGHT
TZOFFSETFROM:+0100
TZOFFSETTO:+0200
TZNAME:CEST
DTSTART:20230326T010000
END:DAYLIGHT
BEGIN:STANDARD
TZOFFSETFROM:+0200
TZOFFSETTO:+0100
TZNAME:CET
DTSTART:20231029T010000
END:STANDARD
BEGIN:DAYLIGHT
TZOFFSETFROM:+0100
TZOFFSETTO:+0200
TZNAME:CEST
DTSTART:20240331T010000
END:DAYLIGHT
BEGIN:STANDARD
TZOFFSETFROM:+0200
TZOFFSETTO:+0100
TZNAME:CET
DTSTART:20241027T010000
END:STANDARD
BEGIN:DAYLIGHT
TZOFFSETFROM:+0100
TZOFFSETTO:+0200
TZNAME:CEST
DTSTART:20250330T010000
END:DAYLIGHT
BEGIN:STANDARD
TZOFFSETFROM:+0200
TZOFFSETTO:+0100
TZNAME:CET
DTSTART:20251026T010000
END:STANDARD
END:VTIMEZONE
BEGIN:VEVENT
DTSTART;TZID=Europe/Berlin:20240630T090000
DTEND;TZID=Europe/Berlin:20240630T140000
DTSTAMP:20260423T120258
CREATED:20240406T192920Z
LAST-MODIFIED:20240406T193712Z
UID:790-1719738000-1719756000@tennis-buchholz.de
SUMMARY:TV Grosslittgen 2 - Damen 30 (2024)
DESCRIPTION:4. Spieltag
URL:https://tennis-buchholz.de/termin/tv-grosslittgen-2-damen-30-2024-2
LOCATION:TV Grosslittgen\, Kindergartenstr.\, Grosslittgen\, 54534\, Deutschland
CATEGORIES:Damen 30,Spiele,Termine
ORGANIZER;CN="Tennisverband Rheinland-Pfalz e. V.":MAILTO:info@rlp-tennis.de
END:VEVENT
BEGIN:VEVENT
DTSTART;TZID=Europe/Berlin:20240630T090000
DTEND;TZID=Europe/Berlin:20240630T140000
DTSTAMP:20260423T120258
CREATED:20240406T192922Z
LAST-MODIFIED:20240406T195432Z
UID:795-1719738000-1719756000@tennis-buchholz.de
SUMMARY:TC Spay - Damen (2024)
DESCRIPTION:5. Spieltag
URL:https://tennis-buchholz.de/termin/tc-spay-damen-2024
LOCATION:TC Spay\, Auf der Aue\, Spay\, 56322\, Deutschland
CATEGORIES:Damen,Spiele,Termine
ORGANIZER;CN="Tennisverband Rheinland-Pfalz e. V.":MAILTO:info@rlp-tennis.de
END:VEVENT
BEGIN:VEVENT
DTSTART;TZID=Europe/Berlin:20240630T090000
DTEND;TZID=Europe/Berlin:20240630T140000
DTSTAMP:20260423T120258
CREATED:20240406T194833Z
LAST-MODIFIED:20240406T194833Z
UID:823-1719738000-1719756000@tennis-buchholz.de
SUMMARY:Herren 30 - TC Oberwerth Koblenz 4
DESCRIPTION:5. Spieltag
URL:https://tennis-buchholz.de/termin/herren-30-tc-oberwerth-koblenz-4
LOCATION:TC Buchholz\, Casinostraße\, Boppard\, 56154\, Deutschland
CATEGORIES:Herren 30,Spiele,Termine
ORGANIZER;CN="Tennisverband Rheinland-Pfalz e. V.":MAILTO:info@rlp-tennis.de
END:VEVENT
END:VCALENDAR