BEGIN:VCALENDAR
VERSION:2.0
PRODID:-//Tennisclub Grün-Weiß Buchholz e.V. - ECPv6.15.20//NONSGML v1.0//EN
CALSCALE:GREGORIAN
METHOD:PUBLISH
X-ORIGINAL-URL:https://tennis-buchholz.de
X-WR-CALDESC:Veranstaltungen für Tennisclub Grün-Weiß Buchholz e.V.
REFRESH-INTERVAL;VALUE=DURATION:PT1H
X-Robots-Tag:noindex
X-PUBLISHED-TTL:PT1H
BEGIN:VTIMEZONE
TZID:Europe/Berlin
BEGIN:DAYLIGHT
TZOFFSETFROM:+0100
TZOFFSETTO:+0200
TZNAME:CEST
DTSTART:20230326T010000
END:DAYLIGHT
BEGIN:STANDARD
TZOFFSETFROM:+0200
TZOFFSETTO:+0100
TZNAME:CET
DTSTART:20231029T010000
END:STANDARD
BEGIN:DAYLIGHT
TZOFFSETFROM:+0100
TZOFFSETTO:+0200
TZNAME:CEST
DTSTART:20240331T010000
END:DAYLIGHT
BEGIN:STANDARD
TZOFFSETFROM:+0200
TZOFFSETTO:+0100
TZNAME:CET
DTSTART:20241027T010000
END:STANDARD
BEGIN:DAYLIGHT
TZOFFSETFROM:+0100
TZOFFSETTO:+0200
TZNAME:CEST
DTSTART:20250330T010000
END:DAYLIGHT
BEGIN:STANDARD
TZOFFSETFROM:+0200
TZOFFSETTO:+0100
TZNAME:CET
DTSTART:20251026T010000
END:STANDARD
END:VTIMEZONE
BEGIN:VEVENT
DTSTART;TZID=Europe/Berlin:20240621T153000
DTEND;TZID=Europe/Berlin:20240621T190000
DTSTAMP:20260421T164514
CREATED:20240406T181854Z
LAST-MODIFIED:20240406T190036Z
UID:714-1718983800-1718996400@tennis-buchholz.de
SUMMARY:DJK Ochtendung - Gemischt U12 (2024)
DESCRIPTION:4. Spieltag
URL:https://tennis-buchholz.de/termin/djk-ochtendung-gemischt-u12-2024
LOCATION:DJK Ochtendung\, Schiller Straße\, Ochtendung\, 56299\, Deutschland
CATEGORIES:Gemischt U12,Spiele,Termine
ORGANIZER;CN="Tennisverband Rheinland-Pfalz e. V.":MAILTO:info@rlp-tennis.de
END:VEVENT
END:VCALENDAR