BEGIN:VCALENDAR
VERSION:2.0
PRODID:-//Tennisclub Grün-Weiß Buchholz e.V. - ECPv6.15.20//NONSGML v1.0//EN
CALSCALE:GREGORIAN
METHOD:PUBLISH
X-ORIGINAL-URL:https://tennis-buchholz.de
X-WR-CALDESC:Veranstaltungen für Tennisclub Grün-Weiß Buchholz e.V.
REFRESH-INTERVAL;VALUE=DURATION:PT1H
X-Robots-Tag:noindex
X-PUBLISHED-TTL:PT1H
BEGIN:VTIMEZONE
TZID:Europe/Berlin
BEGIN:DAYLIGHT
TZOFFSETFROM:+0100
TZOFFSETTO:+0200
TZNAME:CEST
DTSTART:20230326T010000
END:DAYLIGHT
BEGIN:STANDARD
TZOFFSETFROM:+0200
TZOFFSETTO:+0100
TZNAME:CET
DTSTART:20231029T010000
END:STANDARD
BEGIN:DAYLIGHT
TZOFFSETFROM:+0100
TZOFFSETTO:+0200
TZNAME:CEST
DTSTART:20240331T010000
END:DAYLIGHT
BEGIN:STANDARD
TZOFFSETFROM:+0200
TZOFFSETTO:+0100
TZNAME:CET
DTSTART:20241027T010000
END:STANDARD
BEGIN:DAYLIGHT
TZOFFSETFROM:+0100
TZOFFSETTO:+0200
TZNAME:CEST
DTSTART:20250330T010000
END:DAYLIGHT
BEGIN:STANDARD
TZOFFSETFROM:+0200
TZOFFSETTO:+0100
TZNAME:CET
DTSTART:20251026T010000
END:STANDARD
END:VTIMEZONE
BEGIN:VEVENT
DTSTART;TZID=Europe/Berlin:20240505T090000
DTEND;TZID=Europe/Berlin:20240505T140000
DTSTAMP:20260421T153114
CREATED:20240406T190205Z
LAST-MODIFIED:20240406T193712Z
UID:767-1714899600-1714917600@tennis-buchholz.de
SUMMARY:Damen 30 - TV Longuich (2024)
DESCRIPTION:1. Spieltag
URL:https://tennis-buchholz.de/termin/damen-30-tv-longuich-2024
LOCATION:TC Buchholz\, Casinostraße\, Boppard\, 56154\, Deutschland
CATEGORIES:Damen 30,Spiele,Termine
ORGANIZER;CN="Tennisverband Rheinland-Pfalz e. V.":MAILTO:info@rlp-tennis.de
END:VEVENT
BEGIN:VEVENT
DTSTART;TZID=Europe/Berlin:20240505T090000
DTEND;TZID=Europe/Berlin:20240505T140000
DTSTAMP:20260421T153114
CREATED:20240406T194832Z
LAST-MODIFIED:20240406T194832Z
UID:819-1714899600-1714917600@tennis-buchholz.de
SUMMARY:TC GW Braubach - Herren 30 (2024)
DESCRIPTION:1. Spieltag
URL:https://tennis-buchholz.de/termin/tc-gw-braubach-herren-30-2024
LOCATION:TC GW Braubach\, Untere Gartenstraße\, Braubach\, 56338\, Deutschland
CATEGORIES:Herren 30,Spiele,Termine
ORGANIZER;CN="Tennisverband Rheinland-Pfalz e. V.":MAILTO:info@rlp-tennis.de
END:VEVENT
END:VCALENDAR