BEGIN:VCALENDAR
VERSION:2.0
PRODID:-//Tennisclub Grün-Weiß Buchholz e.V. - ECPv6.15.20//NONSGML v1.0//EN
CALSCALE:GREGORIAN
METHOD:PUBLISH
X-ORIGINAL-URL:https://tennis-buchholz.de
X-WR-CALDESC:Veranstaltungen für Tennisclub Grün-Weiß Buchholz e.V.
REFRESH-INTERVAL;VALUE=DURATION:PT1H
X-Robots-Tag:noindex
X-PUBLISHED-TTL:PT1H
BEGIN:VTIMEZONE
TZID:Europe/Berlin
BEGIN:DAYLIGHT
TZOFFSETFROM:+0100
TZOFFSETTO:+0200
TZNAME:CEST
DTSTART:20220327T010000
END:DAYLIGHT
BEGIN:STANDARD
TZOFFSETFROM:+0200
TZOFFSETTO:+0100
TZNAME:CET
DTSTART:20221030T010000
END:STANDARD
BEGIN:DAYLIGHT
TZOFFSETFROM:+0100
TZOFFSETTO:+0200
TZNAME:CEST
DTSTART:20230326T010000
END:DAYLIGHT
BEGIN:STANDARD
TZOFFSETFROM:+0200
TZOFFSETTO:+0100
TZNAME:CET
DTSTART:20231029T010000
END:STANDARD
BEGIN:DAYLIGHT
TZOFFSETFROM:+0100
TZOFFSETTO:+0200
TZNAME:CEST
DTSTART:20240331T010000
END:DAYLIGHT
BEGIN:STANDARD
TZOFFSETFROM:+0200
TZOFFSETTO:+0100
TZNAME:CET
DTSTART:20241027T010000
END:STANDARD
END:VTIMEZONE
BEGIN:VEVENT
DTSTART;TZID=Europe/Berlin:20230715T140000
DTEND;TZID=Europe/Berlin:20230715T220000
DTSTAMP:20260421T134506
CREATED:20230212T144013Z
LAST-MODIFIED:20230212T144014Z
UID:515-1689429600-1689458400@tennis-buchholz.de
SUMMARY:Sommerfest
DESCRIPTION:Ein schönes Sommerfest soll natürlich auch in unserem diesjährigen Kalender nicht fehlen. Bei einem gut organisierten Schleifchentunier wollen wir die Krone des Schleifchenjägers 2023 verleihen und den Tag mit einer leckeren Bratwurst in der Hand ausklingen lassen. Ihr könnt euch gerne als Spieler oder Zuschauer anmelden.
URL:https://tennis-buchholz.de/termin/sommerfest
LOCATION:TC Buchholz\, Casinostraße\, Boppard\, 56154\, Deutschland
CATEGORIES:Sonstige,Termine
ORGANIZER;CN="Tennisclub Gr%C3%BCn-Wei%C3%9F Buchholz e.V.":MAILTO:info@tennis-buchholz.de
END:VEVENT
END:VCALENDAR