BEGIN:VCALENDAR
VERSION:2.0
PRODID:-//Tennisclub Grün-Weiß Buchholz e.V. - ECPv6.15.20//NONSGML v1.0//EN
CALSCALE:GREGORIAN
METHOD:PUBLISH
X-ORIGINAL-URL:https://tennis-buchholz.de
X-WR-CALDESC:Veranstaltungen für Tennisclub Grün-Weiß Buchholz e.V.
REFRESH-INTERVAL;VALUE=DURATION:PT1H
X-Robots-Tag:noindex
X-PUBLISHED-TTL:PT1H
BEGIN:VTIMEZONE
TZID:Europe/Berlin
BEGIN:DAYLIGHT
TZOFFSETFROM:+0100
TZOFFSETTO:+0200
TZNAME:CEST
DTSTART:20220327T010000
END:DAYLIGHT
BEGIN:STANDARD
TZOFFSETFROM:+0200
TZOFFSETTO:+0100
TZNAME:CET
DTSTART:20221030T010000
END:STANDARD
BEGIN:DAYLIGHT
TZOFFSETFROM:+0100
TZOFFSETTO:+0200
TZNAME:CEST
DTSTART:20230326T010000
END:DAYLIGHT
BEGIN:STANDARD
TZOFFSETFROM:+0200
TZOFFSETTO:+0100
TZNAME:CET
DTSTART:20231029T010000
END:STANDARD
BEGIN:DAYLIGHT
TZOFFSETFROM:+0100
TZOFFSETTO:+0200
TZNAME:CEST
DTSTART:20240331T010000
END:DAYLIGHT
BEGIN:STANDARD
TZOFFSETFROM:+0200
TZOFFSETTO:+0100
TZNAME:CET
DTSTART:20241027T010000
END:STANDARD
END:VTIMEZONE
BEGIN:VEVENT
DTSTART;TZID=Europe/Berlin:20230709T090000
DTEND;TZID=Europe/Berlin:20230709T140000
DTSTAMP:20260421T134530
CREATED:20230312T162412Z
LAST-MODIFIED:20230312T182458Z
UID:548-1688893200-1688911200@tennis-buchholz.de
SUMMARY:Winninger TV 2 - Herren 30 C-Klasse (2023)
DESCRIPTION:6. Spieltag
URL:https://tennis-buchholz.de/termin/winninger-tv-2-herren-30-c-klasse-2023
LOCATION:Winninger TV\, Auf dem Meer 1\, Winningen\, 56333\, Deutschland
CATEGORIES:Herren 30,Spiele,Termine
ORGANIZER;CN="Tennisverband Rheinland-Pfalz e. V.":MAILTO:info@rlp-tennis.de
END:VEVENT
BEGIN:VEVENT
DTSTART;TZID=Europe/Berlin:20230709T090000
DTEND;TZID=Europe/Berlin:20230709T140000
DTSTAMP:20260421T134530
CREATED:20230312T165517Z
LAST-MODIFIED:20240406T185549Z
UID:577-1688893200-1688911200@tennis-buchholz.de
SUMMARY:SG Hainau/Miehlen 1 - Damen 30 Rheinlandliga (2023)
DESCRIPTION:7. Spieltag
URL:https://tennis-buchholz.de/termin/sg-hainau-miehlen-1-damen-30-rheinlandliga-2023
LOCATION:TC Hainau\, Hauptstraße\, Hainau\, 56357\, Deutschland
CATEGORIES:Damen 30,Spiele,Termine
ORGANIZER;CN="Tennisverband Rheinland-Pfalz e. V.":MAILTO:info@rlp-tennis.de
END:VEVENT
END:VCALENDAR