BEGIN:VCALENDAR
VERSION:2.0
PRODID:-//Tennisclub Grün-Weiß Buchholz e.V. - ECPv6.15.20//NONSGML v1.0//EN
CALSCALE:GREGORIAN
METHOD:PUBLISH
X-WR-CALNAME:Tennisclub Grün-Weiß Buchholz e.V.
X-ORIGINAL-URL:https://tennis-buchholz.de
X-WR-CALDESC:Veranstaltungen für Tennisclub Grün-Weiß Buchholz e.V.
REFRESH-INTERVAL;VALUE=DURATION:PT1H
X-Robots-Tag:noindex
X-PUBLISHED-TTL:PT1H
BEGIN:VTIMEZONE
TZID:Europe/Berlin
BEGIN:DAYLIGHT
TZOFFSETFROM:+0100
TZOFFSETTO:+0200
TZNAME:CEST
DTSTART:20220327T010000
END:DAYLIGHT
BEGIN:STANDARD
TZOFFSETFROM:+0200
TZOFFSETTO:+0100
TZNAME:CET
DTSTART:20221030T010000
END:STANDARD
BEGIN:DAYLIGHT
TZOFFSETFROM:+0100
TZOFFSETTO:+0200
TZNAME:CEST
DTSTART:20230326T010000
END:DAYLIGHT
BEGIN:STANDARD
TZOFFSETFROM:+0200
TZOFFSETTO:+0100
TZNAME:CET
DTSTART:20231029T010000
END:STANDARD
BEGIN:DAYLIGHT
TZOFFSETFROM:+0100
TZOFFSETTO:+0200
TZNAME:CEST
DTSTART:20240331T010000
END:DAYLIGHT
BEGIN:STANDARD
TZOFFSETFROM:+0200
TZOFFSETTO:+0100
TZNAME:CET
DTSTART:20241027T010000
END:STANDARD
END:VTIMEZONE
BEGIN:VEVENT
DTSTART;TZID=Europe/Berlin:20230618T090000
DTEND;TZID=Europe/Berlin:20230618T140000
DTSTAMP:20260425T132536
CREATED:20230312T162410Z
LAST-MODIFIED:20240406T192120Z
UID:545-1687078800-1687096800@tennis-buchholz.de
SUMMARY:Herren 30 C-Klasse - SG Nörtershausen/Oberfell 3 (2023)
DESCRIPTION:3. Spieltag
URL:https://tennis-buchholz.de/termin/herren-30-c-klasse-sg-noertershausen-oberfell-3-2023
LOCATION:TC Buchholz\, Casinostraße\, Boppard\, 56154\, Deutschland
CATEGORIES:Herren 30,Spiele,Termine
ORGANIZER;CN="Tennisverband Rheinland-Pfalz e. V.":MAILTO:info@rlp-tennis.de
END:VEVENT
BEGIN:VEVENT
DTSTART;TZID=Europe/Berlin:20230618T090000
DTEND;TZID=Europe/Berlin:20230618T140000
DTSTAMP:20260425T132536
CREATED:20230312T165503Z
LAST-MODIFIED:20230312T182513Z
UID:574-1687078800-1687096800@tennis-buchholz.de
SUMMARY:TV Longuich 1 - Damen 30 Rheinlandliga (2023)
DESCRIPTION:4. Spieltag
URL:https://tennis-buchholz.de/termin/tv-longuich-1-damen-30-rheinlandliga-2023
LOCATION:TV Longuich\, Maximinstr.\, Longuich\, 54340\, Deutschland
CATEGORIES:Damen 30,Spiele,Termine
ORGANIZER;CN="Tennisverband Rheinland-Pfalz e. V.":MAILTO:info@rlp-tennis.de
END:VEVENT
END:VCALENDAR